BEGIN:VCALENDAR
VERSION:2.0
CALSCALE:GREGORIAN
PRODID:adamgibbons/ics
METHOD:PUBLISH
X-PUBLISHED-TTL:PT1H
BEGIN:VEVENT
UID:36@tucsontimeline.info
SUMMARY:THE STORE: Fundraiser Show for the New Film by George Romero
DTSTAMP:20260425T191021Z
DTSTART:20241005T020000Z
DTEND:20241005T043000Z
DESCRIPTION:Come witness this special presentation on George Romero's new f
	ilm! Fresh off\nthe fire of success at the Loft First Friday event with Fr
	anny and Zooey\, THE\nSTORE is a new film that will plumb the depths of sc
	ene bullshit that any\nmusician in a mid-sized college town will understan
	d. Come give us a little\nmoney so we can make it happen! There will be an
	 opening performance by Bennie\nis not a Tyrant and Neither Am I\, followe
	d by a screening of Franny and Zooey\nand a special presentation on the ne
	w film. At the end Ishouldgo will play on my\nfront lawn. Real teen movie 
	shit huh. This really was a summer none of us are\never going to forget. S
	tarting at 7 PM\, entry admission will be $5 at the door.\nIf you ain't go
	t it you can still hang though. Big love!
URL:https://tucsontimeline.info/event/the-store-fundraiser-show-for-the-new
	-film-by-george-romero
LOCATION:Menlo Park Misbegotten - 811 W Alameda St
STATUS:CONFIRMED
CATEGORIES:Film,music,performance,weird
X-ALT-DESC;FMTTYPE=text/html:<p>Come witness this special presentation on G
	eorge Romero's new film! Fresh off the fire of success at the Loft First F
	riday event with <em>Franny and Zooey</em>, <em>THE STORE</em> is a new fi
	lm that will plumb the depths of scene bullshit that any musician in a mid
	-sized college town will understand. Come give us a little money so we can
	 make it happen! There will be an opening performance by Bennie is not a T
	yrant and Neither Am I, followed by a screening of <em>Franny and Zooey</e
	m> and a special presentation on the new film. At the end Ishouldgo will p
	lay on my front lawn. Real teen movie shit huh. This really was a summer n
	one of us are ever going to forget. Starting at 7 PM, entry admission will
	 be $5 at the door. If you ain't got it you can still hang though. Big lov
	e!</p>
END:VEVENT
END:VCALENDAR
